BEGIN:VCALENDAR
VERSION:2.0
PRODID:-//Taberg - ECPv6.15.20//NONSGML v1.0//EN
CALSCALE:GREGORIAN
METHOD:PUBLISH
X-ORIGINAL-URL:https://www.taberg.info
X-WR-CALDESC:Händelser för Taberg
REFRESH-INTERVAL;VALUE=DURATION:PT1H
X-Robots-Tag:noindex
X-PUBLISHED-TTL:PT1H
BEGIN:VTIMEZONE
TZID:Europe/Stockholm
BEGIN:DAYLIGHT
TZOFFSETFROM:+0100
TZOFFSETTO:+0200
TZNAME:CEST
DTSTART:20240331T010000
END:DAYLIGHT
BEGIN:STANDARD
TZOFFSETFROM:+0200
TZOFFSETTO:+0100
TZNAME:CET
DTSTART:20241027T010000
END:STANDARD
BEGIN:DAYLIGHT
TZOFFSETFROM:+0100
TZOFFSETTO:+0200
TZNAME:CEST
DTSTART:20250330T010000
END:DAYLIGHT
BEGIN:STANDARD
TZOFFSETFROM:+0200
TZOFFSETTO:+0100
TZNAME:CET
DTSTART:20251026T010000
END:STANDARD
BEGIN:DAYLIGHT
TZOFFSETFROM:+0100
TZOFFSETTO:+0200
TZNAME:CEST
DTSTART:20260329T010000
END:DAYLIGHT
BEGIN:STANDARD
TZOFFSETFROM:+0200
TZOFFSETTO:+0100
TZNAME:CET
DTSTART:20261025T010000
END:STANDARD
END:VTIMEZONE
BEGIN:VEVENT
DTSTART;TZID=Europe/Stockholm:20250606T140000
DTEND;TZID=Europe/Stockholm:20250606T170000
DTSTAMP:20260425T005551
CREATED:20250303T135156Z
LAST-MODIFIED:20250303T135203Z
UID:1281-1749218400-1749229200@www.taberg.info
SUMMARY:Nationaldagsfirande
DESCRIPTION:Taberg och Norrahammars musikkårer spelarTalare är Karin Malmsten från Värnamo
URL:https://www.taberg.info/event/nationaldagsfirande/
LOCATION:Hembygdsparken\, Nissanvägen 18\, Taberg\, 562 40\, Sweden
ORGANIZER;CN="Tabergs Bergslags Hembygdsf%C3%B6rening":MAILTO:tabergsbergslag@gmail.com
END:VEVENT
END:VCALENDAR