BEGIN:VCALENDAR
VERSION:2.0
PRODID:-//Taberg - ECPv6.15.20//NONSGML v1.0//EN
CALSCALE:GREGORIAN
METHOD:PUBLISH
X-WR-CALNAME:Taberg
X-ORIGINAL-URL:https://www.taberg.info
X-WR-CALDESC:Händelser för Taberg
REFRESH-INTERVAL;VALUE=DURATION:PT1H
X-Robots-Tag:noindex
X-PUBLISHED-TTL:PT1H
BEGIN:VTIMEZONE
TZID:Europe/Stockholm
BEGIN:DAYLIGHT
TZOFFSETFROM:+0100
TZOFFSETTO:+0200
TZNAME:CEST
DTSTART:20240331T010000
END:DAYLIGHT
BEGIN:STANDARD
TZOFFSETFROM:+0200
TZOFFSETTO:+0100
TZNAME:CET
DTSTART:20241027T010000
END:STANDARD
BEGIN:DAYLIGHT
TZOFFSETFROM:+0100
TZOFFSETTO:+0200
TZNAME:CEST
DTSTART:20250330T010000
END:DAYLIGHT
BEGIN:STANDARD
TZOFFSETFROM:+0200
TZOFFSETTO:+0100
TZNAME:CET
DTSTART:20251026T010000
END:STANDARD
BEGIN:DAYLIGHT
TZOFFSETFROM:+0100
TZOFFSETTO:+0200
TZNAME:CEST
DTSTART:20260329T010000
END:DAYLIGHT
BEGIN:STANDARD
TZOFFSETFROM:+0200
TZOFFSETTO:+0100
TZNAME:CET
DTSTART:20261025T010000
END:STANDARD
END:VTIMEZONE
BEGIN:VEVENT
DTSTART;TZID=Europe/Stockholm:20250510T090000
DTEND;TZID=Europe/Stockholm:20250510T150000
DTSTAMP:20260425T005025
CREATED:20250429T111115Z
LAST-MODIFIED:20250429T112059Z
UID:1327-1746867600-1746889200@www.taberg.info
SUMMARY:Tabergshelgen
DESCRIPTION:9.00 Invigning Taberg 343 i Tabergs missionskyrka.  \n\n\n\nKlicka på länken ovan för mer information.
URL:https://www.taberg.info/event/tabergshelgen-2/
END:VEVENT
END:VCALENDAR